BEGIN:VCALENDAR
VERSION:2.0
X-WR-CALNAME: Fine as Wine Trio
PRODID:GIGPRESS 2.0 WORDPRESS PLUGIN
CALSCALE:GREGORIAN
X-WR-TIMEZONE:Etc/GMT
METHOD:PUBLISH
BEGIN:VTIMEZONE
TZID:GMT
BEGIN:STANDARD
DTSTART:20071028T010000
TZOFFSETTO:+0000
TZOFFSETFROM:+0000
END:STANDARD
END:VTIMEZONE
BEGIN:VEVENT
SUMMARY:Fine as Wine Trio at Stoller Wine Bar
DESCRIPTION:All Ages
LOCATION:Stoller Wine Bar\, 106 S Center St\, Newberg\, US
UID:20260424T190000Z-60-bobwoods@mac.com
URL:https://crookedcornerband.com
DTSTART;VALUE=DATE-TIME;TZID=GMT:20260424T190000Z
DTEND;VALUE=DATE-TIME;TZID=GMT:20260424T190000Z
DTSTAMP:20260422T022508Z
END:VEVENT
BEGIN:VEVENT
SUMMARY:Fine as Wine Trio at Private Party
DESCRIPTION:All Ages
LOCATION:Private Party\, Portland\, US
UID:20260425T130000Z-56-bobwoods@mac.com
URL:https://crookedcornerband.com
DTSTART;VALUE=DATE-TIME;TZID=GMT:20260425T130000Z
DTEND;VALUE=DATE-TIME;TZID=GMT:20260425T130000Z
DTSTAMP:20260422T022508Z
END:VEVENT
BEGIN:VEVENT
SUMMARY:Fine as Wine Trio at RH Estate Wines
DESCRIPTION:All Ages
LOCATION:RH Estate Wines\, 2995 Michigan City Ln NW\, Salem\, US
UID:20260524T140000Z-57-bobwoods@mac.com
URL:https://crookedcornerband.com
DTSTART;VALUE=DATE-TIME;TZID=GMT:20260524T140000Z
DTEND;VALUE=DATE-TIME;TZID=GMT:20260524T140000Z
DTSTAMP:20260422T022508Z
END:VEVENT
BEGIN:VEVENT
SUMMARY:Fine as Wine Trio at Butteville General Stove
DESCRIPTION:All Ages
LOCATION:Butteville General Stove\, Butteville\, US
UID:20260711T180000Z-58-bobwoods@mac.com
URL:https://crookedcornerband.com
DTSTART;VALUE=DATE-TIME;TZID=GMT:20260711T180000Z
DTEND;VALUE=DATE-TIME;TZID=GMT:20260711T180000Z
DTSTAMP:20260422T022508Z
END:VEVENT
BEGIN:VEVENT
SUMMARY:Fine as Wine Trio at Neskowin Golf Course
DESCRIPTION:All Ages
LOCATION:Neskowin Golf Course\, Neskowin\, US
UID:20260822T160000Z-53-bobwoods@mac.com
URL:https://crookedcornerband.com
DTSTART;VALUE=DATE-TIME;TZID=GMT:20260822T160000Z
DTEND;VALUE=DATE-TIME;TZID=GMT:20260822T160000Z
DTSTAMP:20260422T022508Z
END:VEVENT
BEGIN:VEVENT
SUMMARY:Fine as Wine Trio at Butteville General Stove
DESCRIPTION:All Ages
LOCATION:Butteville General Stove\, Butteville\, US
UID:20260912T180000Z-59-bobwoods@mac.com
URL:https://crookedcornerband.com
DTSTART;VALUE=DATE-TIME;TZID=GMT:20260912T180000Z
DTEND;VALUE=DATE-TIME;TZID=GMT:20260912T180000Z
DTSTAMP:20260422T022508Z
END:VEVENT
END:VCALENDAR