BEGIN:VCALENDAR
VERSION:2.0
PRODID:GIGPRESS 2.0 WORDPRESS PLUGIN
CALSCALE:GREGORIAN
X-WR-TIMEZONE:Etc/GMT
METHOD:PUBLISH
BEGIN:VTIMEZONE
TZID:GMT
BEGIN:STANDARD
DTSTART:20071028T010000
TZOFFSETTO:+0000
TZOFFSETFROM:+0000
END:STANDARD
END:VTIMEZONE
BEGIN:VEVENT
SUMMARY:Crooked Corner Band at Neskowin Golf Course
DESCRIPTION:All Ages
LOCATION:Neskowin Golf Course\, Neskowin\, US
UID:20260731T160000Z-52-bobwoods@mac.com
URL:https://crookedcornerband.com
DTSTART;VALUE=DATE-TIME;TZID=GMT:20260731T160000Z
DTEND;VALUE=DATE-TIME;TZID=GMT:20260731T160000Z
DTSTAMP:20260422T022453Z
END:VEVENT
END:VCALENDAR